BEGIN:VCALENDAR
VERSION:2.0
PRODID:-//Les VERT·E·S Valais - ECPv6.15.15//NONSGML v1.0//EN
CALSCALE:GREGORIAN
METHOD:PUBLISH
X-WR-CALNAME:Les VERT·E·S Valais
X-ORIGINAL-URL:https://verts-vs.ch
X-WR-CALDESC:Évènements pour Les VERT·E·S Valais
REFRESH-INTERVAL;VALUE=DURATION:PT1H
X-Robots-Tag:noindex
X-PUBLISHED-TTL:PT1H
BEGIN:VTIMEZONE
TZID:Europe/Zurich
BEGIN:DAYLIGHT
TZOFFSETFROM:+0100
TZOFFSETTO:+0200
TZNAME:CEST
DTSTART:20220327T010000
END:DAYLIGHT
BEGIN:STANDARD
TZOFFSETFROM:+0200
TZOFFSETTO:+0100
TZNAME:CET
DTSTART:20221030T010000
END:STANDARD
BEGIN:DAYLIGHT
TZOFFSETFROM:+0100
TZOFFSETTO:+0200
TZNAME:CEST
DTSTART:20230326T010000
END:DAYLIGHT
BEGIN:STANDARD
TZOFFSETFROM:+0200
TZOFFSETTO:+0100
TZNAME:CET
DTSTART:20231029T010000
END:STANDARD
BEGIN:DAYLIGHT
TZOFFSETFROM:+0100
TZOFFSETTO:+0200
TZNAME:CEST
DTSTART:20240331T010000
END:DAYLIGHT
BEGIN:STANDARD
TZOFFSETFROM:+0200
TZOFFSETTO:+0100
TZNAME:CET
DTSTART:20241027T010000
END:STANDARD
END:VTIMEZONE
BEGIN:VEVENT
DTSTART;VALUE=DATE:20230409
DTEND;VALUE=DATE:20230410
DTSTAMP:20260420T193059
CREATED:20230306T125625Z
LAST-MODIFIED:20230306T125828Z
UID:4799-1680998400-1681084799@verts-vs.ch
SUMMARY:Du 4 mars au 9 avril 2023 : 18ème édition du Festival du film vert - Monthey - Vallée du Trient - Fully - Sion - Sierre
DESCRIPTION:
URL:https://verts-vs.ch/event/18eme-edition-du-festival-du-film-vert-monthey-vallee-du-trient-fully-sion-sierre
LOCATION:Valais
END:VEVENT
END:VCALENDAR