BEGIN:VCALENDAR
VERSION:2.0
PRODID:-//Les VERT·E·S Valais - ECPv6.15.15//NONSGML v1.0//EN
CALSCALE:GREGORIAN
METHOD:PUBLISH
X-WR-CALNAME:Les VERT·E·S Valais
X-ORIGINAL-URL:https://verts-vs.ch
X-WR-CALDESC:Évènements pour Les VERT·E·S Valais
REFRESH-INTERVAL;VALUE=DURATION:PT1H
X-Robots-Tag:noindex
X-PUBLISHED-TTL:PT1H
BEGIN:VTIMEZONE
TZID:Europe/Zurich
BEGIN:DAYLIGHT
TZOFFSETFROM:+0100
TZOFFSETTO:+0200
TZNAME:CEST
DTSTART:20220327T010000
END:DAYLIGHT
BEGIN:STANDARD
TZOFFSETFROM:+0200
TZOFFSETTO:+0100
TZNAME:CET
DTSTART:20221030T010000
END:STANDARD
BEGIN:DAYLIGHT
TZOFFSETFROM:+0100
TZOFFSETTO:+0200
TZNAME:CEST
DTSTART:20230326T010000
END:DAYLIGHT
BEGIN:STANDARD
TZOFFSETFROM:+0200
TZOFFSETTO:+0100
TZNAME:CET
DTSTART:20231029T010000
END:STANDARD
BEGIN:DAYLIGHT
TZOFFSETFROM:+0100
TZOFFSETTO:+0200
TZNAME:CEST
DTSTART:20240331T010000
END:DAYLIGHT
BEGIN:STANDARD
TZOFFSETFROM:+0200
TZOFFSETTO:+0100
TZNAME:CET
DTSTART:20241027T010000
END:STANDARD
END:VTIMEZONE
BEGIN:VEVENT
DTSTART;TZID=Europe/Zurich:20230124T183000
DTEND;TZID=Europe/Zurich:20230124T200000
DTSTAMP:20260420T204241
CREATED:20221219T064802Z
LAST-MODIFIED:20221219T064802Z
UID:4698-1674585000-1674590400@verts-vs.ch
SUMMARY:Conférence d'Arnaud Zufferey à Sion
DESCRIPTION:
URL:https://verts-vs.ch/event/conference-darnaud-zufferey-a-sion
LOCATION:Aula Campus Energypolis\, Rue de l’Industrie 23 (entrée nord) – 1950 Sion
END:VEVENT
END:VCALENDAR