BEGIN:VCALENDAR
VERSION:2.0
PRODID:-//Les VERT·E·S Valais - ECPv6.15.15//NONSGML v1.0//EN
CALSCALE:GREGORIAN
METHOD:PUBLISH
X-WR-CALNAME:Les VERT·E·S Valais
X-ORIGINAL-URL:https://verts-vs.ch
X-WR-CALDESC:Évènements pour Les VERT·E·S Valais
REFRESH-INTERVAL;VALUE=DURATION:PT1H
X-Robots-Tag:noindex
X-PUBLISHED-TTL:PT1H
BEGIN:VTIMEZONE
TZID:Europe/Zurich
BEGIN:DAYLIGHT
TZOFFSETFROM:+0100
TZOFFSETTO:+0200
TZNAME:CEST
DTSTART:20220327T010000
END:DAYLIGHT
BEGIN:STANDARD
TZOFFSETFROM:+0200
TZOFFSETTO:+0100
TZNAME:CET
DTSTART:20221030T010000
END:STANDARD
BEGIN:DAYLIGHT
TZOFFSETFROM:+0100
TZOFFSETTO:+0200
TZNAME:CEST
DTSTART:20230326T010000
END:DAYLIGHT
BEGIN:STANDARD
TZOFFSETFROM:+0200
TZOFFSETTO:+0100
TZNAME:CET
DTSTART:20231029T010000
END:STANDARD
BEGIN:DAYLIGHT
TZOFFSETFROM:+0100
TZOFFSETTO:+0200
TZNAME:CEST
DTSTART:20240331T010000
END:DAYLIGHT
BEGIN:STANDARD
TZOFFSETFROM:+0200
TZOFFSETTO:+0100
TZNAME:CET
DTSTART:20241027T010000
END:STANDARD
END:VTIMEZONE
BEGIN:VEVENT
DTSTART;TZID=Europe/Zurich:20230429T113000
DTEND;TZID=Europe/Zurich:20230429T160000
DTSTAMP:20260420T204312
CREATED:20230227T071515Z
LAST-MODIFIED:20230228T130240Z
UID:4785-1682767800-1682784000@verts-vs.ch
SUMMARY:Repas de soutien des Vert·e·s Valais
DESCRIPTION:
URL:https://verts-vs.ch/event/repas-de-soutien-des-vert%c2%b7e%c2%b7s-valais
END:VEVENT
END:VCALENDAR